BEGIN:VCALENDAR
VERSION:2.0
PRODID:-//Catedral - ECPv6.2.2//NONSGML v1.0//EN
CALSCALE:GREGORIAN
METHOD:PUBLISH
X-ORIGINAL-URL:https://catedraldeburgos.es
X-WR-CALDESC:Eventos para Catedral
REFRESH-INTERVAL;VALUE=DURATION:PT1H
X-Robots-Tag:noindex
X-PUBLISHED-TTL:PT1H
BEGIN:VTIMEZONE
TZID:Europe/Madrid
BEGIN:DAYLIGHT
TZOFFSETFROM:+0100
TZOFFSETTO:+0200
TZNAME:CEST
DTSTART:20250330T010000
END:DAYLIGHT
BEGIN:STANDARD
TZOFFSETFROM:+0200
TZOFFSETTO:+0100
TZNAME:CET
DTSTART:20251026T010000
END:STANDARD
END:VTIMEZONE
BEGIN:VEVENT
DTSTART;TZID=Europe/Madrid:20250722T201500
DTEND;TZID=Europe/Madrid:20250722T220000
DTSTAMP:20260423T052034
CREATED:20250505T074438Z
LAST-MODIFIED:20250721T083136Z
UID:6623-1753215300-1753221600@catedraldeburgos.es
SUMMARY:Concierto de Coro y Orquesta del conservatorio británico Buckinghamshire Music Trust
DESCRIPTION:Concierto de la Orquesta y Coro del “Buckinghamshire Music Trust”  protagonizado por jóvenes músicos procedentes del Buckinghamshire Music Trust (BMT)\, una reconocida institución británica dedicada a la educación y la excelencia musical. \nFundado en Inglaterra\, el Buckinghamshire Music Trust es una organización educativa sin ánimo de lucro cuya misión es fomentar el talento musical entre niños y jóvenes de todas las edades y niveles. Con sede en el condado de Buckinghamshire\, esta entidad ofrece clases de instrumento\, canto\, teoría musical\, y participa activamente en programas escolares\, actividades extracurriculares y proyectos comunitarios. Además\, gestiona diversas orquestas\, bandas y coros juveniles\, que representan a la región tanto a nivel nacional como internacional. \nEl lema de la institución\, “Love Bucks\, Love Music”\, refleja el doble compromiso de la organización con su comunidad local (“Bucks”\, abreviatura de Buckinghamshire) y con la pasión por la música como herramienta de crecimiento personal y colectivo. \nDirectores: \nBuckinghamshire County Youth Orchestra (BCYO) \n\n\n\n \nTom Horn desarrolló su pasión mientras estudiaba Música con Acústica en la Universidad de Southampton. Se entrenó con directores notables como Peter Stark\, Peter Ash\, Toby Purser y Robin Browning. \nTom ha trabajado con varias orquestas juveniles y amateur en el sur de Inglaterra\, colaborando con músicos de renombre como Nicola Benedetti\, David Owen Norris y Sir Mark Elder. Actualmente se desempeña como Director Musical para múltiples conjuntos\, incluyendo la Orquesta Juvenil del Condado de Buckinghamshire\, Pelly Concert Orchestra\, Marlow Orchestra\, Aylesbury y Slough Youth Orchestras. Además\, está involucrado con la Sociedad de Música Haslemere y fundó la Orquesta Sinfónica de la Caridad. \n\n\n\n\n\n  \nBuckinghamshire Youth Wind Ensemble (BYWE) \n\n\n \n\n\n\nEd Hodgson estudio en French horn y en la Guildhall School of Music\, seguido de un curso de posgrado en la Royal Academy of Music. Ha disfrutado de una variada carrera musical actuando con orquestas como la BBC Concert Orchestra\, la Orquesta Nacional de la BBC de Gales\, Filarmónica de Estambul\, la Orquesta Sinfónica de Chipre y la Orquesta Sinfónica de Bournemouth. \nSu experiencia en el West End incluye tocar en espectáculos como Oliver\, Wicked\, Les Misérables\, Gypsy\, Miss Saigon\, Kiss Me Kate y Warhorse. Ha sido director de orquesta en Mack y Mabel con Michael Ball\, Chit Chitty Bang Bang\, Sinatra\, Mary Poppins UK tours\, y dirigió el conjunto de bronce de la BBC National Orchestra of Wales durante su serie de grabación. También aparece en las bandas sonoras de Doctor Who\, Hidden Kingdom\, Atlantis y Crimewatch. \nBucks County Youth Choir (BCYC) \n\n\n\n\n\n\nEdwin Pitt Mansfield es educador\, intérprete y director musical con sede en Londres. Como barítono\, ha cantado para compañías de ópera\, coros y coros en todo el Reino Unido y Francia. Es un profesor líder de voces jóvenes y adolescentes talentosos. Edwin es miembro de la facultad vocal Tring Park School for the Performing Arts y profesor vocal adjunto en el Royal College of Music Junior Department. Anteriormente ha sido profesor en The Royal Ballet School y Stowe School. \nEs examinador del Trinity College de Londres y fue presidente de la Asociación de Maestros de Canto (2022-2024). Edwin dirige regularmente talleres\, días de formación de maestros y sesiones de conferencias en todo el Reino Unido\, particularmente sobre el cambio de voz masculino. Es colaborador de la revista Music Teacher y director musical tanto del Coro Juvenil del Condado de Buckinghamshire como de Aylesbury Consort of Voices. \n\n\n\n\nEntradas: 1 euro para los Amigos de la Catedral y 2 euros para el resto. Se pueden retirar en la Tienda de la Catedral. \nAcceso por la Puerta del Sarmental 20 minutos antes. \n  \nPrograma \nBuckinghamshire County Youth Orchestra conducted by Tom Horn \nCockaigne – Elgar \nCelebration Fantasy – Thomas Harrington \nSuite No 2 – Shostakovich \nBuckinghamshire County Youth Choir conducted by Edwin Pitt Mansfield \nBirthday Madrigals – Rutter \nBy the Lone Seashore – Coleridge-Taylor \nCanticle to Jean Racine – Faure \nNow is the Month of Maying – Morley \nI’m a Train – Hammond & Hazlewood \nBuckinghamshire Youth Wind Ensemble conducted by Ed Hodgson \nSecond Suite in F – Holst \nEquus – Eric Whitacre \nO Magnum Mysterium – Morten Lauridson \nThe Catskills – Nigel Hess \n 
URL:https://catedraldeburgos.es/evento/concierto-de-coro-y-orquesta-del-conservatorio-britanico-buckinghamshire-music-trust/
LOCATION:Nave Central de la Catedral\, Plaza de Santa María s/n\, Burgos\, Burgos\, 09003\, España
ATTACH;FMTTYPE=image/jpeg:https://catedraldeburgos.es/wp-content/uploads/2025/05/BMT.jpg
END:VEVENT
BEGIN:VEVENT
DTSTART;TZID=Europe/Madrid:20250723T201500
DTEND;TZID=Europe/Madrid:20250723T213000
DTSTAMP:20260423T052034
CREATED:20250505T072848Z
LAST-MODIFIED:20250721T143654Z
UID:6612-1753301700-1753306200@catedraldeburgos.es
SUMMARY:Batalla de órganos
DESCRIPTION:Concierto en el que sonarán los cuatro órganos históricos de la Catedral. \nEn primer lugar el de la Capilla de los Condestables con un breve concierto de música del s.XVI\, música para la que fuera construido este órgano. \nA continuación sonará el órgano de la Capilla de San Enrique.  \nPor último el órgano de la Epístola y el Órgano del Evangelio de la Nave Central. \nINTÉRPRETES:  \nENRIQUE MARTÍN-LAGUNA MONREAL  \nNace en Madrid en 1990. Inicia sus estudios musicales en el Conservatorio Profesional de Música Manuel de Falla de Alcorcón. Estudia en la especialidad de piano con José Luis Agulló. En 2012 obtiene el Título de Grado Profesional en la misma especialidad. Profundiza en el estudio de la armonía y el contrapunto durante varios años con el compositor y director José López Calvo. \nParticipa de manera frecuente en diferentes academias y cursos dentro y fuera de España. Amplía su formación en órgano\, clave\, clavicordio e improvisación asistiendo a clases magistrales con prestigiosos profesores como Montserrat Torrent\, Andrés Cea\, Aline Zylberajch\, Sietze de Vries\, Olivier Latry\, Bernhard Haas\, Lorenzo Ghielmi\, Jacques van Oortmerssen\, etc. \nObtiene el Título de Grado Superior de órgano en 2018 estudiando con los profesores Roberto Fresco (interpretación) y Mónica Melcova (continuo e improvisación) en Centro Superior de Enseñanza Musical Katarina Gurska de Madrid. Actualmente finaliza los estudios superiores de composición en el Real Conservatorio Superior de Música de Madrid con los profesores Alfonso Romero\, Jesús Rueda y Ángel Huidobro entre otros. Paralelamente cursa un Máster de interpretación de órgano en el Conservatorio Real de Bruselas con el profesor Benoît Mernier. \nSu actividad concertística le ha llevado a actuar en varios lugares de España\, Bélgica\, Francia e Italia. Es el organista titular de la Catedral de Santa María Magdalena de Getafe. \nCARLOS JULIÁN FERNÁNDEZ BOLLO \nCarlos Julián es un joven de 25 años\, natural de Mugardos (Coruña). Inició los estudios de piano en la Escuela Municipal de Mugardos en el curso académico 2004-2005. En el curso 2008-2009\, comienza el Grado Elemental de Piano en el Conservatorio Profesional de Música de Ferrol y lo finaliza el año 2012\, continuando inmediatamente con el Grado Profesional en la misma materia\, Grado que concluyó en 2018\, obteniendo el Premio Extraordinario de Fin de Grado junto a las Matrículas de Honor en Piano y en Acompañamiento e Improvisación. A la par\, se cultivó como organista bajo la tutela de prestigios organistas y participó activamente en Festivales de Piano y de Órgano. \nCabe destacar también su labor como organista litúrgico\, la cual lleva realizando prácticamente sin interrupción desde el año 2009 hasta la actualidad. Cuenta con diploma acreditativo de dicha función\, otorgado en 2017 por la Universidad Pontificia de Comillas\, como parte del ciclo trienal de estudios en el Curso Nacional para Organistas Litúrgicos que organiza la Conferencia Episcopal Española. Ha desarrollado dicha labor en su parroquia natal\, en la Parroquia Castrense de San Francisco de Ferrol (2016-2023)\, en la Catedral de San José de Groningen\, Países Bajos\, (desde 2018) y en la Iglesia de San Martín de esta misma ciudad. \nTras finalizar el Grado Profesional de Piano\, fue aceptado en el Conservatorio Prins Claus de Groningen\, en los Países Bajos\, iniciando su formación en órgano el curso 2018-2019\, formación que ha finalizado el pasado mes de junio con el examen final de los estudios de Máster en la especialidad de Órgano en el citado conservatorio. En la actualidad\, mantiene una agenda de conciertos activa en distintos lugares de la geografía española y europea. \nHa sido premiado en el V Concurso Nacional de Órgano Francisco Salinas de Burgos (Octubre 2023)\, siendo galardonado con el Primer Premio y con el Premio “Montserrat Torrent” a la mejor interpretación de Antonio de Cabezón. En Noviembre de 2023\, fue nombrado Organista Titular de la Catedral Basílica de Nuestra Señora de la Asunción en Mondoñedo (Lugo). \nEntradas: Tienda de la catedral desde el día 13 de julio. \n  \n  \n 
URL:https://catedraldeburgos.es/evento/batalla-de-organos/
LOCATION:Escalera Dorada
ATTACH;FMTTYPE=image/jpeg:https://catedraldeburgos.es/wp-content/uploads/2025/05/WhatsApp-Image-2025-06-20-at-00.38.28-11.jpeg
END:VEVENT
END:VCALENDAR