BEGIN:VCALENDAR
VERSION:2.0
PRODID:-//Catedral - ECPv6.2.2//NONSGML v1.0//EN
CALSCALE:GREGORIAN
METHOD:PUBLISH
X-WR-CALNAME:Catedral
X-ORIGINAL-URL:https://catedraldeburgos.es
X-WR-CALDESC:Eventos para Catedral
REFRESH-INTERVAL;VALUE=DURATION:PT1H
X-Robots-Tag:noindex
X-PUBLISHED-TTL:PT1H
BEGIN:VTIMEZONE
TZID:Europe/Madrid
BEGIN:DAYLIGHT
TZOFFSETFROM:+0100
TZOFFSETTO:+0200
TZNAME:CEST
DTSTART:20240331T010000
END:DAYLIGHT
BEGIN:STANDARD
TZOFFSETFROM:+0200
TZOFFSETTO:+0100
TZNAME:CET
DTSTART:20241027T010000
END:STANDARD
END:VTIMEZONE
BEGIN:VEVENT
DTSTART;TZID=Europe/Madrid:20240202T193000
DTEND;TZID=Europe/Madrid:20240202T210000
DTSTAMP:20260424T193015
CREATED:20240201T093042Z
LAST-MODIFIED:20241220T114019Z
UID:4968-1706902200-1706907600@catedraldeburgos.es
SUMMARY:Fiesta de la Presentación del Señor
DESCRIPTION:El arzobispo de Burgos\, Mons. Mario Iceta Gavicagogeascoa\, va a presidir la eucaristía de la Presentación del Señor en el Templo\, conocida tradicionalmente como la fiesta «de las candelas»\, día en que se celebra la Jornada de la Vida Consagrada. \nLa liturgia comenzará a las 18:30h en la capilla de los Condestables\, desde la que partirá una procesión con las velas hasta la capilla de Santa Tecla\, donde se celebrará la Santa Misa. Antes de la procesión de las Candelas se bendecirá la Cruz de reliquias del VIII Centenario de la Catedral.
URL:https://catedraldeburgos.es/evento/fiesta-de-la-presentacion-del-senor/
LOCATION:Capilla de Santa Tecla\, Pl. Sta. María\, s/n\,\, Burgos\, 09003
ATTACH;FMTTYPE=image/jpeg:https://catedraldeburgos.es/wp-content/uploads/2024/02/capilla_condestable_catedral_de_burgos-1536x864-1-e1762165162241.jpg
END:VEVENT
BEGIN:VEVENT
DTSTART;TZID=Europe/Madrid:20240211T193000
DTEND;TZID=Europe/Madrid:20240211T213000
DTSTAMP:20260424T193015
CREATED:20240209T142538Z
LAST-MODIFIED:20241220T114054Z
UID:5029-1707679800-1707687000@catedraldeburgos.es
SUMMARY:Triduo Eucarístico "Fraternidad para sanar el mundo"
DESCRIPTION:Durante tres días\, la seo burgalesa acogerá diferentes momentos de exposición del Santísimo Sacramento\, seguidos de la celebración de la Eucaristía. \nEl 11 de febrero se realizará la exposición del Santísimo con adoración eucarística a las 18:30h. en la capilla de Santa Tecla. A las 19:30 se celebrará la Santa Misa.
URL:https://catedraldeburgos.es/evento/triduo-eucaristico-fraternidad-para-sanar-el-mundo/
LOCATION:Capilla de Santa Tecla\, Pl. Sta. María\, s/n\,\, Burgos\, 09003
END:VEVENT
BEGIN:VEVENT
DTSTART;TZID=Europe/Madrid:20240212T180000
DTEND;TZID=Europe/Madrid:20240212T213000
DTSTAMP:20260424T193015
CREATED:20240209T144623Z
LAST-MODIFIED:20241220T114138Z
UID:5031-1707760800-1707773400@catedraldeburgos.es
SUMMARY:Triduo Eucarístico "Fraternidad para sanar el mundo"
DESCRIPTION:Exposición del Santísimo con turnos de vela desde a las 17:00h. hasta las 19:00h\, hora a la que se realizará la bendición y reserva\, previas al rezo del Santo Rosario. A continuación\, a las 19:30\, se celebrará la Santa Misa.
URL:https://catedraldeburgos.es/evento/triduo-eucaristico-fraternidad-para-sanar-el-mundo-2/
LOCATION:Capilla de Santa Tecla\, Pl. Sta. María\, s/n\,\, Burgos\, 09003
END:VEVENT
BEGIN:VEVENT
DTSTART;TZID=Europe/Madrid:20240213T180000
DTEND;TZID=Europe/Madrid:20240213T213000
DTSTAMP:20260424T193015
CREATED:20240209T145044Z
LAST-MODIFIED:20241220T114233Z
UID:5037-1707847200-1707859800@catedraldeburgos.es
SUMMARY:Triduo Eucarístico "Fraternidad para sanar el mundo"
DESCRIPTION:Exposición del Santísimo con turnos de vela desde a las 17:00h. hasta las 19:00h\, hora a la que se realizará la bendición y reserva\, previas al rezo del Santo Rosario. A continuación\, a las 19:30\, se celebrará la Santa Misa. Después de la Eucaristía se realizará una procesión por el interior del templo con estación en la Escalera Dorada. \n  \n \n  \n 
URL:https://catedraldeburgos.es/evento/triduo-eucaristico-fraternidad-para-sanar-el-mundo-3/
LOCATION:Capilla de Santa Tecla\, Pl. Sta. María\, s/n\,\, Burgos\, 09003
END:VEVENT
BEGIN:VEVENT
DTSTART;TZID=Europe/Madrid:20240214T203000
DTEND;TZID=Europe/Madrid:20240214T220000
DTSTAMP:20260424T193015
CREATED:20240209T153302Z
LAST-MODIFIED:20241220T114309Z
UID:5046-1707942600-1707948000@catedraldeburgos.es
SUMMARY:Miércoles de Ceniza
DESCRIPTION:El arzobispo de Burgos\, Mons. Mario Iceta Gavicagogeascoa\, presidirá la misa del Miércoles de Ceniza\, día de ayuno y abstinencia en el que comienza la Cuaresma. Durante la celebración eucarística\, el arzobispo impondrá la ceniza a los fieles que participen en la misa. \n  \n \n 
URL:https://catedraldeburgos.es/evento/miercoles-de-ceniza/
LOCATION:Capilla de Santa Tecla\, Pl. Sta. María\, s/n\,\, Burgos\, 09003
END:VEVENT
END:VCALENDAR