BEGIN:VCALENDAR
VERSION:2.0
PRODID:-//Catedral - ECPv6.2.2//NONSGML v1.0//EN
CALSCALE:GREGORIAN
METHOD:PUBLISH
X-WR-CALNAME:Catedral
X-ORIGINAL-URL:https://catedraldeburgos.es
X-WR-CALDESC:Eventos para Catedral
REFRESH-INTERVAL;VALUE=DURATION:PT1H
X-Robots-Tag:noindex
X-PUBLISHED-TTL:PT1H
BEGIN:VTIMEZONE
TZID:Europe/Madrid
BEGIN:DAYLIGHT
TZOFFSETFROM:+0100
TZOFFSETTO:+0200
TZNAME:CEST
DTSTART:20250330T010000
END:DAYLIGHT
BEGIN:STANDARD
TZOFFSETFROM:+0200
TZOFFSETTO:+0100
TZNAME:CET
DTSTART:20251026T010000
END:STANDARD
BEGIN:DAYLIGHT
TZOFFSETFROM:+0100
TZOFFSETTO:+0200
TZNAME:CEST
DTSTART:20260329T010000
END:DAYLIGHT
BEGIN:STANDARD
TZOFFSETFROM:+0200
TZOFFSETTO:+0100
TZNAME:CET
DTSTART:20261025T010000
END:STANDARD
END:VTIMEZONE
BEGIN:VEVENT
DTSTART;TZID=Europe/Madrid:20251114T110000
DTEND;TZID=Europe/Madrid:20260111T190000
DTSTAMP:20260420T214232
CREATED:20251114T102318Z
LAST-MODIFIED:20251210T114642Z
UID:7033-1763118000-1768158000@catedraldeburgos.es
SUMMARY:Exposición de pintura 'Artist and Cathedral' de Fran Herreros
DESCRIPTION:Proyecto del Cabildo de la Catedral iniciado por el pintor Fran Herreros. Tras 18 meses de trabajo\, se exponen 40 cuadros y 20 bocetos. Un video introductorio resume el proceso creativo. \nHorario de la exposición \n11.00h-19.00h. Entrada libre por la puerta del Claustro Bajo. \nDesde el 14 de noviembre al 11 de enero\, todos los días a excepción de los lunes. \nHorario de Navidad: \n24 de diciembre y 31 de enero: de 11.00h a 14.00h. \n25 de diciembre y 1 de enero cerrado. \n  \nColabora: Fundación Círculo\, Ayuntamiento de Burgos\, Smurfit Westrock
URL:https://catedraldeburgos.es/evento/exposicion-de-pintura-artist-and-cathedral-de-fran-herreros/
LOCATION:Sala Beato Valentín Palencia
ATTACH;FMTTYPE=image/jpeg:https://catedraldeburgos.es/wp-content/uploads/2025/11/Cristo-Burgos.jpg
END:VEVENT
BEGIN:VEVENT
DTSTART;TZID=Europe/Madrid:20251223T200000
DTEND;TZID=Europe/Madrid:20251223T213000
DTSTAMP:20260420T214232
CREATED:20251208T075941Z
LAST-MODIFIED:20251212T160309Z
UID:7100-1766520000-1766525400@catedraldeburgos.es
SUMMARY:Concierto de Navidad con la Coral Interludio
DESCRIPTION:El Coro Interludio surgió en Burgos en el otoño de 1998 cuando un grupo de amigos entusiastas de la música decidieron fundarlo\, sin más afán que disfrutar del canto en común\, siempre en busca de la calidad a través de la belleza de las interpretaciones. \nEn un principio\, su repertorio se centró en la música contemporánea\, aunque a lo largo de su trayectoria ha recorrido después gran variedad de estilos que abarcan desde el canto gregoriano hasta composiciones del siglo XXI. \nEn estos años han intervenido en más de 200 conciertos y actuaciones en numerosas localidades españolas\, así como en una gira que le llevó a Alemania en el año 2004 y\, también\, en la ciudad de Praga en 2010. \nEl Coro obtuvo el primer premio en tres certámenes nacionales (el Antonio José de Burgos en 2002\, el Antigua Abesbatzak de Zumárraga\, Guipúzcoa\, en 2003 y el Villa de Griñón\, Madrid\, en 2006). Asimismo\, logró un segundo premio en el concurso de 2008 y un tercer premio en el de 2010 del Certamen de la Canción Marinera de San Vicente de la Barquera (Cantabria). También participó en dos convocatorias del Gran Premio Nacional de Canto Coral\, las celebradas en Rojales (Alicante) en 2005 y en Griñón en 2007. En mayo de 2018 obtuvo el segundo premio en el I Certamen de Villanueva de la Serena (Badajoz). En 2019 volvió al Certamen Nacional de Corales Antonio José de Burgos\, donde logró el tercer premio. El pasado año 2022 se alzó con el segundo premio y el premio al mejor director coral de la XLII edición del Certamen Coral Fira de Tots Sants de Cocentaina (Alicante). \nTiene publicados dos trabajos discográficos: “Spanish folk songs” (2007)\, única grabación de los ocho cuadernos que integraban la compleja obra compuesta por el músico burgalés Alejandro Yagüe\, e “Interludio: 10 años” (2010)\, que recopila el repertorio más característico del primer decenio del Coro. \nEn 2017 formó parte en la grabación de la BSO de la película “Red de Libertad” que fue estrenada ese mismo año. Estuvo dirigida por Pablo Moreno y cuya música fue compuesta por Óscar Martín Leanizbarrutia. \nEn noviembre de 2019 grabó en el Museo de la Evolución Humana un “flashmob” con motivo del XX aniversario de su creación. \nAsimismo\, en junio de 2022\, el grupo burgalés La M.O.D.A. invitó al Coro Interludio a participar en el concierto que ofreció en Burgos con motivo de las fiestas de San Pedro para acompañarlo en una de sus canciones y mostrar una de las obra del compositor burgalés Antonio José. En el mes de noviembre de ese mismo año\, repitió la colaboración en el WiZink Center en Madrid. \nLos pasados 22 y 23 de abril de 2023 el Coro participó junto con la Joven Orquesta Sinfónica de Burgos en el estreno de la “Sinfonía nº 9 en re menor\, op. 125” de Ludwing van Beethoven\, en la versión del compositor Pedro Halffter\, en las localidades de Miranda de Ebro y Burgos. \nEl 23 de noviembre de 2024\, con motivo de su 25 aniversario\, el Coro\, junto al Orfeón Burgalés\, interpretó en el marco de la Escalera Dorada las tres obras para triple coro que el compositor burgalés Alejandro Yagüe compuso en honor a la Catedral de Santa María de Burgos. \nDirector: Rodrigo Calzada Peña \nLas entradas están disponibles en la Tienda de la Catedral a partir del 15 de diciembre. Precio: Amigos de la Catedral 2 €\, y para el resto 3€. Acceso por la Puerta Santa María a las 18.45h. \nPROGRAMA \nCorde natus ex Parentis ……….Arm.: Julio Domínguez (1965- ) \nCandombe a San Baltasar……….Música: Abel Montenegro y Yábor (1950-) Texto: Yábor \nArm.: Liliana Cangiano (1951-1997) \nThe work of Christmas …………………… Arm.: Dan Forrest (1978- ) \nTexto: Howard Thurman (1899-1981) \nAguinaldos de Navidad ………………… Arm.: Alejandro Wolfgang Espigares (1992-) \nA Child is born ……………………….… Arm.: Bernat Vivancos (1973-) \nTexto: H. Montgomerie MacGill (1807-1880) \nAve María ………………………….…… Arm.: Antonio José (1902-1936) \nCampana sobre campana ………………… Arm.: Juan Pablo Otero (1975-) \nCantate Domino ………………………… Arm.: Josu Elberdin (1976 -) \nLa Virgen iba a lavar ……………………. Arm.: Rubén García Martín (1983-) \nDe “Dos villancicos breves” ………… Arm.: Juan María Thomàs (1896-1966) \nTexto: Lope de Vega (1562-1635) \nNº I: Hoy al hielo nace \nVillancico burgalés …………………….. Música: Antonio José (1902-1936) \nArr.: Miguel Ángel Palacios (1950 -) \nChristmas Carol of Peace ……………… Arr.: Juan María Thomàs (1896 – 1966) \nOrganista: Enrique Martín-Laguna Monreal \nCon la colaboración de Lumina Vokalensemble. Director: David Yianacou.
URL:https://catedraldeburgos.es/evento/concierto-de-navidad-con-la-coral-interludio/
LOCATION:Capilla de Santa Tecla\, Pl. Sta. María\, s/n\,\, Burgos\, 09003
ATTACH;FMTTYPE=image/jpeg:https://catedraldeburgos.es/wp-content/uploads/2025/12/StaTecla23-scaled-e1765181706801.jpg
END:VEVENT
END:VCALENDAR