BEGIN:VCALENDAR
VERSION:2.0
PRODID:-//Catedral - ECPv6.2.2//NONSGML v1.0//EN
CALSCALE:GREGORIAN
METHOD:PUBLISH
X-WR-CALNAME:Catedral
X-ORIGINAL-URL:https://catedraldeburgos.es
X-WR-CALDESC:Eventos para Catedral
REFRESH-INTERVAL;VALUE=DURATION:PT1H
X-Robots-Tag:noindex
X-PUBLISHED-TTL:PT1H
BEGIN:VTIMEZONE
TZID:Europe/Madrid
BEGIN:DAYLIGHT
TZOFFSETFROM:+0100
TZOFFSETTO:+0200
TZNAME:CEST
DTSTART:20250330T010000
END:DAYLIGHT
BEGIN:STANDARD
TZOFFSETFROM:+0200
TZOFFSETTO:+0100
TZNAME:CET
DTSTART:20251026T010000
END:STANDARD
END:VTIMEZONE
BEGIN:VEVENT
DTSTART;TZID=Europe/Madrid:20250928T203000
DTEND;TZID=Europe/Madrid:20250928T220000
DTSTAMP:20260423T105651
CREATED:20250311T075435Z
LAST-MODIFIED:20250917T072206Z
UID:6474-1759091400-1759096800@catedraldeburgos.es
SUMMARY:Concierto de Burgos Baroque Ensemble. 950 aniversario del traslado de la sede de Oca a Burgos
DESCRIPTION:Concierto «La audacia de lo genuino. El Legado Inédito de Antonio Abadía» a cargo de Burgos Baroque Ensemble. \nForma parte del ciclo «La Música Dormida. El legado musical de la catedral de Burgos»\, que recupera y presenta composiciones inéditas procedentes del Archivo Histórico de la Catedral de Burgos. Dedicado a la preservación y difusión del patrimonio musical con motivo del 950 aniversario del traslado de la sede episcopal de Oca a Burgos. \nDirector: Javier Ulises Illán. \nAcceso por la Puerta del Sarmental 20 minutos antes. \nEntradas disponibles en el canal de venta de TeleEntradas.Precio: 4 euros. \n 
URL:https://catedraldeburgos.es/evento/concierto-aniversario-del-traslado-de-la-sede-de-oca-a-burgos/
LOCATION:Escalera Dorada
ATTACH;FMTTYPE=image/jpeg:https://catedraldeburgos.es/wp-content/uploads/2025/04/20250330_El-Silencio-Iluminado_Catedral-de-Burgos_@rodrigomenaruiz_0096-scaled.jpg
END:VEVENT
END:VCALENDAR